BEGIN:VCALENDAR
VERSION:2.0
PRODID:http://www.kirche-cochem.de
BEGIN:VEVENT
UID:002b88d8-3c96-11f1-a3e9-0242ac11002b-1778747400000-de
DTSTAMP:20260420T085037Z
DTSTART:20260514T083000Z
DTEND:20260514T093000Z
SUMMARY;LANGUAGE=de:Christi Himmelfahrt: Eucharistiefeier in Brauheck, St. Klaus von Flüe
END:VEVENT
END:VCALENDAR
