BEGIN:VCALENDAR
VERSION:2.0
PRODID:http://www.kirche-cochem.de
BEGIN:VEVENT
UID:1a8e0533-3c93-11f1-a3e9-0242ac11002b-1778257800000-de
DTSTAMP:20260420T082952Z
DTSTART:20260508T163000Z
DTEND:20260508T173000Z
SUMMARY;LANGUAGE=de:Maiandacht am Heiligenhäuschen in Faid, Treffpunkt: ehemaliger Geldautomat
END:VEVENT
END:VCALENDAR
