BEGIN:VCALENDAR
VERSION:2.0
PRODID:http://www.kirche-cochem.de
BEGIN:VEVENT
UID:89c5ba09-325d-11f1-a3e9-0242ac11002b-1778072400000-de
DTSTAMP:20260407T084115Z
DTSTART:20260506T130000Z
DTEND:20260506T140000Z
SUMMARY;LANGUAGE=de:Eucharistiefeier im Bürgersaal in Klotten mit anschließendem Beisammensein
END:VEVENT
END:VCALENDAR
