BEGIN:VCALENDAR
VERSION:2.0
PRODID:http://www.kirche-cochem.de
BEGIN:VEVENT
UID:fb8130bc-3c94-11f1-a3e9-0242ac11002b-1778558400000-de
DTSTAMP:20260420T084319Z
DTSTART:20260512T040000Z
DTEND:20260512T060000Z
SUMMARY;LANGUAGE=de:Bittprozession in die Weinberge mit abschließender Maiandacht am Kränkhofs-Heiligenhäuschen in Klotten, Treffpunkt: Spielplatz
END:VEVENT
END:VCALENDAR
